BEGIN:VCALENDAR
VERSION:2.0
PRODID:-//Corpus Christi Gun Club - ECPv5.3.1.1//NONSGML v1.0//EN
CALSCALE:GREGORIAN
METHOD:PUBLISH
X-WR-CALNAME:Corpus Christi Gun Club
X-ORIGINAL-URL:https://corpuschristigunclub.com
X-WR-CALDESC:Events for Corpus Christi Gun Club
BEGIN:VTIMEZONE
TZID:UTC
BEGIN:STANDARD
TZOFFSETFROM:+0000
TZOFFSETTO:+0000
TZNAME:UTC
DTSTART:20260101T000000
END:STANDARD
END:VTIMEZONE
BEGIN:VEVENT
DTSTART;TZID=UTC:20260612T080000
DTEND;TZID=UTC:20260612T150000
DTSTAMP:20260425T104057
CREATED:20250603T181548Z
LAST-MODIFIED:20251109T182636Z
UID:4812-1781251200-1781276400@corpuschristigunclub.com
SUMMARY:Habitat for Humanity Corpus Christi Sporting Clay Fundraiser Shoot
DESCRIPTION:Habitat for Humanity Corpus Christi Sporting Clay Fundraiser Shoot. \nLink to flyer: https://corpuschristigunclub.com/wp-content/uploads/2025/06/hfh-scaled.jpg \nLink to sponsor opportunities: https://corpuschristigunclub.com/wp-content/uploads/2025/06/hfh-2-scaled.jpg \nLink to pre-registration: https://corpuschristigunclub.com/wp-content/uploads/2025/06/hfh-2_20250603114321-scaled.jpg
URL:https://corpuschristigunclub.com/event/habitat-for-humanity-corpus-christi-sporting-clay-fundraiser-shoot/
END:VEVENT
END:VCALENDAR